Workbook

Sheet Cover sheet (sheet1)
A1: Sender
A3: Name, Supplier | N3: Initial Sample Inspection Report
A4: Street or PO-Box | N4: Cover sheet initial sampling
A5: Country, PO, City | N5: Submission level
O6: Sample submission
P7: New part
P8: Product modification (change of specification)
A9: Recipient | P9: Production process modification
P10: Tool modification / tool correction
A11: GEZE plant | P11: Modificaton of outsourced parts
A12: Adresse1 | P12: New sub-supplier
A13: Adresse2 | P13: Other
A14: Land | O14: Re-sampling
A15: Email | O15: New sampling
N16: Inspection report other samples
A18: Attachments
B19: 1 ISIR Cover Sheet | M19: 6 Material test | S19: 11 Ohthers
B20: 2 GEZE drawing/specification | M20: 7 Process flow chart
B21: 3 Samples | M21: 8 Inspection plan/Test coverage
B22: 4 Geometry and dimensions | M22: 9 Test equipment list
B23: 5 Physical / mechanical / chemical properties | M23: 10 Compliance with legal requirements
A24: Supplier details | L24: GEZE
A25: Supplier / Production location:
A26: Inspection report n°: | L26: Inspection report n°:
A27: Part description: | L27: Part description:
A28: Drawing n°: | L28: Drawing n°:
A29: Part n°: | L29: Part n°:
A30: Revision/Date: | L30: Revision/Date:
A31: Notification of change n°: | L31: Notification of change n°:
A32: Oder n° / Date | L32: Incoming goods n°:
A33: Delivery note n° / Date | L33: Delivery date:
A34: Quantity supplied: | L34: Quantity supplied
A35: Batch n°:
A36: Weight of sample:
A37: Confirmation by supplier: It is herby confirmed that the sample submission has been carried otu in accordance with the agreed GEZE supplier guideline Initial sampling.
A39: Name: | L39: Supplier´s comment
A40: Department:
A41: Phone
A42: E-Mail:
C45: Date | G45: Signature
A46: Decision GEZE
B47: approved | M47: new samples / date:
B48: conditionally approved | M48: supplied quantity of samples is accepted
B49: rejected, re-sampling necessary | M49: supplied quantity of samples is returned
A50: Name: | L50: Comments
A51: Department:
A52: Phone:
A53: E-Mail:
C56: Date | G56: Signature

Sheet Content (sheet2)
A3: Content of the initial sample inspection report (ISIR)
A5: Supplier details
A6: Supplier / Production location: | F6: ='Cover sheet (sheet1)'!F25:K25 -> 0
A7: Inspection report n°: | F7: ='Cover sheet (sheet1)'!F26:K26 -> 0
A8: Part description: | F8: ='Cover sheet (sheet1)'!F27:K27 -> 0
A9: Drawing n°: | F9: ='Cover sheet (sheet1)'!F28:K28 -> 0
A10: Part n°: | F10: ='Cover sheet (sheet1)'!F29:K29 -> 0
A11: Revision/Date: | F11: ='Cover sheet (sheet1)'!F30:K30 -> 0
A12: Notification of change n°: | F12: ='Cover sheet (sheet1)'!F31:K31 -> 0
A13: Oder n° / Date | F13: ='Cover sheet (sheet1)'!F32:K32 -> 0
A16: Anlage | L16: Bemerkung
A17: 1 ISIR Cover Sheet
A18: 2 GEZE drawing/specification
A19: 3 Samples
A20: 4 Geometry and dimensions
A21: 5 Physical / mechanical / chemical properties
A22: 6 Material test
A23: 7 Process flow chart
A24: 8 Inspection plan/Test coverage
A25: 9 Test equipment list
A26: 10 Compliance with legal requirements
A27: 11 Ohthers
A30: Name:
... A33: E-Mail:
C36: Date | G36: Signature

Sheet Test results 1
A1: Product related test results
A3: Supplier details
A4: Part description: | D4: ='Cover sheet (sheet1)'!F27 -> 0 | J4: Part n°: | N4: ='Cover sheet (sheet1)'!F29 -> 0
A5: Drawing n°: | D5: ='Cover sheet (sheet1)'!F28 -> 0 | J5: Revision / Date: | N5: ='Cover sheet (sheet1)'!F30 -> 0 | Q5: Inspection report n°: | U5: ='Cover sheet (sheet1)'!F26 -> 0
A7: Ref.n° | B7: Requirements / specification | F7: Measured-date (supplier) | K7: TE* | L7: Result | N7: Measured-date (GEZE) | R7: Comment
F8: Value 1 | G8: Value 2 | H8: Value 3 | I8: Value 4 | J8: Value 5 | L8: ok | M8: nok
A9: 1
A10: 2
A11: 3
A12: 4
A13: 5
A14: 6
A15: 7
A16: 8
A17: 9
A18: 10
A19: 11
A20: 12
... A53: 45
A54: * Test equipment
A55: Date: | F55: Name: | M55: Department:

Sheet Test results 2
A1: Product related test results
A3: Supplier details
A4: Part description: | D4: ='Cover sheet (sheet1)'!F27 -> 0 | J4: Part n°: | N4: ='Cover sheet (sheet1)'!F29 -> 0
A5: Drawing n°: | D5: ='Cover sheet (sheet1)'!F28 -> 0 | J5: Revision / Date: | N5: ='Cover sheet (sheet1)'!F30 -> 0 | Q5: Inspection report n°: | U5: ='Cover sheet (sheet1)'!F26 -> 0
A7: Ref.n° | B7: Requirements / specification | F7: Measured-date (supplier) | K7: TE* | L7: Result | N7: Measured-date (GEZE) | R7: Comment
F8: Value 1 | G8: Value 2 | H8: Value 3 | I8: Value 4 | J8: Value 5 | L8: ok | M8: nok
A9: 46
A10: 47
A11: 48
A12: 49
A13: 50
A14: 51
A15: 52
A16: 53
A17: 54
A18: 55
A19: 56
A20: 57
... A53: 90
A54: * Test equipment
A55: Date: | F55: Name: | M55: Department:

Sheet Test results 3
A1: Product related test results
A3: Supplier details
A4: Part description: | D4: ='Cover sheet (sheet1)'!F27 -> 0 | J4: Part n°: | N4: ='Cover sheet (sheet1)'!F29 -> 0
A5: Drawing n°: | D5: ='Cover sheet (sheet1)'!F28 -> 0 | J5: Revision / Date: | N5: ='Cover sheet (sheet1)'!F30 -> 0 | Q5: Inspection report n°: | U5: ='Cover sheet (sheet1)'!F26 -> 0
A7: Ref.n° | B7: Requirements / specification | F7: Measured-date (supplier) | K7: TE* | L7: Result | N7: Measured-date (GEZE) | R7: Comment
F8: Value 1 | G8: Value 2 | H8: Value 3 | I8: Value 4 | J8: Value 5 | L8: ok | M8: nok
A9: 91
A10: 92
A11: 93
A12: 94
A13: 95
A14: 96
A15: 97
A16: 98
A17: 99
A18: 100
A19: 101
A20: 102
... A53: 135
A54: * Test equipment
A55: Date: | F55: Name: | M55: Department:

Sheet notes
A1: 0 | B1: GEZE GmbH | C1: GEZE DOO Zrenjanin
A2: 1 | B2: Reinhold-Vöster-Str. 21 - 29 | C2: Elemirski put 3
B3: Postfach 1363 | C3: 23000 Zrenjanin
B4: D-71229 Leonberg | C4: Republic of Serbia
B5: qs-info@geze.com | C5: qs-info.srb@geze.com
